BEGIN:VCALENDAR
VERSION:2.0
PRODID:-//Fownhope Village - ECPv6.15.20//NONSGML v1.0//EN
CALSCALE:GREGORIAN
METHOD:PUBLISH
X-ORIGINAL-URL:https://fownhopeparishcouncil.gov.uk
X-WR-CALDESC:Events for Fownhope Village
REFRESH-INTERVAL;VALUE=DURATION:PT1H
X-Robots-Tag:noindex
X-PUBLISHED-TTL:PT1H
BEGIN:VTIMEZONE
TZID:Europe/London
BEGIN:DAYLIGHT
TZOFFSETFROM:+0000
TZOFFSETTO:+0100
TZNAME:BST
DTSTART:20240331T010000
END:DAYLIGHT
BEGIN:STANDARD
TZOFFSETFROM:+0100
TZOFFSETTO:+0000
TZNAME:GMT
DTSTART:20241027T010000
END:STANDARD
BEGIN:DAYLIGHT
TZOFFSETFROM:+0000
TZOFFSETTO:+0100
TZNAME:BST
DTSTART:20250330T010000
END:DAYLIGHT
BEGIN:STANDARD
TZOFFSETFROM:+0100
TZOFFSETTO:+0000
TZNAME:GMT
DTSTART:20251026T010000
END:STANDARD
BEGIN:DAYLIGHT
TZOFFSETFROM:+0000
TZOFFSETTO:+0100
TZNAME:BST
DTSTART:20260329T010000
END:DAYLIGHT
BEGIN:STANDARD
TZOFFSETFROM:+0100
TZOFFSETTO:+0000
TZNAME:GMT
DTSTART:20261025T010000
END:STANDARD
END:VTIMEZONE
BEGIN:VEVENT
DTSTART;TZID=Europe/London:20250525T150000
DTEND;TZID=Europe/London:20250525T160000
DTSTAMP:20260422T093639
CREATED:20250523T164654Z
LAST-MODIFIED:20250523T164654Z
UID:10012879-1748185200-1748188800@fownhopeparishcouncil.gov.uk
SUMMARY:Rogation Service
DESCRIPTION:Sam Styles of “We Are Farming Minds” will be at the Rogation Service this Sunday\, 25th May at 3:00pm at Wessington Court Farm\, Woolhope.  \nWAFM is a charity which provides advice and support designed to raise awareness of mental health issues among the farming community.  \nRogation is an ancient church festival to seek blessing for a community and its sustenance. The word rogation comes from the Latin verb rogare\, meaning “to ask”\, which reflects the beseeching of God for protection from calamities.
URL:https://fownhopeparishcouncil.gov.uk/event/rogation-service/
LOCATION:Wessington Farm\, Woolhope Road\, Woolhope\, HR1 4QJ\, United Kingdom
CATEGORIES:Spiritual
ATTACH;FMTTYPE=image/jpeg:https://fownhopeparishcouncil.gov.uk/wp-content/uploads/2025/05/Rogation-BANNER-e1747814305318.jpg
GEO:52.011891;-2.579978
X-APPLE-STRUCTURED-LOCATION;VALUE=URI;X-ADDRESS=Wessington Farm Woolhope Road Woolhope HR1 4QJ United Kingdom;X-APPLE-RADIUS=500;X-TITLE=Woolhope Road:geo:-2.579978,52.011891
END:VEVENT
END:VCALENDAR