BEGIN:VCALENDAR
VERSION:2.0
PRODID:-//Fownhope Village - ECPv6.15.20//NONSGML v1.0//EN
CALSCALE:GREGORIAN
METHOD:PUBLISH
X-ORIGINAL-URL:https://fownhopeparishcouncil.gov.uk
X-WR-CALDESC:Events for Fownhope Village
REFRESH-INTERVAL;VALUE=DURATION:PT1H
X-Robots-Tag:noindex
X-PUBLISHED-TTL:PT1H
BEGIN:VTIMEZONE
TZID:Europe/London
BEGIN:DAYLIGHT
TZOFFSETFROM:+0000
TZOFFSETTO:+0100
TZNAME:BST
DTSTART:20240331T010000
END:DAYLIGHT
BEGIN:STANDARD
TZOFFSETFROM:+0100
TZOFFSETTO:+0000
TZNAME:GMT
DTSTART:20241027T010000
END:STANDARD
BEGIN:DAYLIGHT
TZOFFSETFROM:+0000
TZOFFSETTO:+0100
TZNAME:BST
DTSTART:20250330T010000
END:DAYLIGHT
BEGIN:STANDARD
TZOFFSETFROM:+0100
TZOFFSETTO:+0000
TZNAME:GMT
DTSTART:20251026T010000
END:STANDARD
BEGIN:DAYLIGHT
TZOFFSETFROM:+0000
TZOFFSETTO:+0100
TZNAME:BST
DTSTART:20260329T010000
END:DAYLIGHT
BEGIN:STANDARD
TZOFFSETFROM:+0100
TZOFFSETTO:+0000
TZNAME:GMT
DTSTART:20261025T010000
END:STANDARD
BEGIN:DAYLIGHT
TZOFFSETFROM:+0000
TZOFFSETTO:+0100
TZNAME:BST
DTSTART:20270328T010000
END:DAYLIGHT
BEGIN:STANDARD
TZOFFSETFROM:+0100
TZOFFSETTO:+0000
TZNAME:GMT
DTSTART:20271031T010000
END:STANDARD
END:VTIMEZONE
BEGIN:VEVENT
DTSTART;TZID=Europe/London:20260314T193000
DTEND;TZID=Europe/London:20260314T210000
DTSTAMP:20260424T092713
CREATED:20260211T084411Z
LAST-MODIFIED:20260211T084411Z
UID:10014941-1773516600-1773522000@fownhopeparishcouncil.gov.uk
SUMMARY:Octavo Concert
DESCRIPTION:The highly acclaimed group Octavo will be performing at St George’s Church\,  Woolhope on Saturday 14th March at 7:30pm.  The performance entitled Springtime of Love will include music by Byrd\, Monteverdi\, Billy Joel and Vaughan Williams – a concert not to be missed!  Tickets at the door £10 with  refreshments afterwards.  Proceeds to The Friends of Woolhope Church.
URL:https://fownhopeparishcouncil.gov.uk/event/octavo-concert/
LOCATION:St George’s Church\, Martins Close\, Woolhope\, Herefordshire\, HR1 4QS\, United Kingdom
CATEGORIES:Musical
ATTACH;FMTTYPE=image/png:https://fownhopeparishcouncil.gov.uk/wp-content/uploads/2026/02/Octavo.png
GEO:52.0192662;-2.568351
X-APPLE-STRUCTURED-LOCATION;VALUE=URI;X-ADDRESS=St George’s Church Martins Close Woolhope Herefordshire HR1 4QS United Kingdom;X-APPLE-RADIUS=500;X-TITLE=Martins Close:geo:-2.568351,52.0192662
END:VEVENT
BEGIN:VEVENT
DTSTART;TZID=Europe/London:20260221T100000
DTEND;TZID=Europe/London:20260221T120000
DTSTAMP:20260424T092713
CREATED:20260130T190556Z
LAST-MODIFIED:20260130T191750Z
UID:10014936-1771668000-1771675200@fownhopeparishcouncil.gov.uk
SUMMARY:Coffee and Pancake Morning
DESCRIPTION:Join us for a Coffee and Pancake Morning at Woolhope Parish Hall on Saturday 21st February from 10am-12 noon.  Freshly made pancakes with a choice of fresh lemon juice\, Maple Syrup or Golden Syrup – something for all the family.  A chance to chat with friends and neighbours over a cup of coffee\, and win some great prizes in the raffle.  All in aid of St. George’s Church\, Woolhope
URL:https://fownhopeparishcouncil.gov.uk/event/pancake-morning-woolhope-parish-hall/
LOCATION:Woolhope Parish Hall\, Martins Close\, Woolhope\, Herefordshire\, HR1 4QS\, United Kingdom
CATEGORIES:Social
ATTACH;FMTTYPE=image/png:https://fownhopeparishcouncil.gov.uk/wp-content/uploads/2026/01/Pancake-1.png
GEO:52.0197057;-2.5687504
X-APPLE-STRUCTURED-LOCATION;VALUE=URI;X-ADDRESS=Woolhope Parish Hall Martins Close Woolhope Herefordshire HR1 4QS United Kingdom;X-APPLE-RADIUS=500;X-TITLE=Martins Close:geo:-2.5687504,52.0197057
END:VEVENT
BEGIN:VEVENT
DTSTART;TZID=Europe/London:20260202T183000
DTEND;TZID=Europe/London:20260202T193000
DTSTAMP:20260424T092713
CREATED:20260130T141526Z
LAST-MODIFIED:20260130T192947Z
UID:10014932-1770057000-1770060600@fownhopeparishcouncil.gov.uk
SUMMARY:Choral Evensong for Candlemas\, Woolhope
DESCRIPTION:Join us at St George’s Church\, Woolhope to celebrate Candlemas with Hereford Church Singers.
URL:https://fownhopeparishcouncil.gov.uk/event/choral-evensong-for-candlemas/
LOCATION:St George’s Church\, Martins Close\, Woolhope\, Herefordshire\, HR1 4QS\, United Kingdom
CATEGORIES:Spiritual
ATTACH;FMTTYPE=image/jpeg:https://fownhopeparishcouncil.gov.uk/wp-content/uploads/2026/01/Candlemas-poster-2-2-26-e1769801358706.jpg
GEO:52.0192662;-2.568351
X-APPLE-STRUCTURED-LOCATION;VALUE=URI;X-ADDRESS=St George’s Church Martins Close Woolhope Herefordshire HR1 4QS United Kingdom;X-APPLE-RADIUS=500;X-TITLE=Martins Close:geo:-2.568351,52.0192662
END:VEVENT
BEGIN:VEVENT
DTSTART;TZID=Europe/London:20250729T093000
DTEND;TZID=Europe/London:20250729T123000
DTSTAMP:20260424T092713
CREATED:20250601T193625Z
LAST-MODIFIED:20250601T195518Z
UID:10012901-1753781400-1753792200@fownhopeparishcouncil.gov.uk
SUMMARY:Hall Garden Work Party
DESCRIPTION:We’re creating a beautiful new garden outside the New Memorial Hall — and we need your help!  \nWe meet each Tuesday from 9:30am to 12:30pm.  \nWe’re getting things ready for a major landscaping day on Saturday 21 June\, after which we’ll be planting the wonderful trees\, shrubs and flowers kindly donated by residents. \nIf you’re able-bodied and up for a bit of graft\, bring your spade\, your saw\, and your muscles.  \nHelp us turn this patch into a blooming focal point for the whole village to enjoy. 💪🌸🌳 \nSee you there? \nFor more information contact Bryn Caless\, brynwstj@gmail.com\, 07581 521291.
URL:https://fownhopeparishcouncil.gov.uk/event/hall-garden-work-party/2025-07-29/
LOCATION:Outside New Memorial Hall\, Fownhope\, Herefordshire\, HR1 4PE\, United Kingdom
CATEGORIES:Nature & Environment
ATTACH;FMTTYPE=image/png:https://fownhopeparishcouncil.gov.uk/wp-content/uploads/2025/06/Hall-work-party.png
GEO:52.006743240887;-2.6142019564165
END:VEVENT
BEGIN:VEVENT
DTSTART;TZID=Europe/London:20250722T093000
DTEND;TZID=Europe/London:20250722T123000
DTSTAMP:20260424T092713
CREATED:20250601T193625Z
LAST-MODIFIED:20250601T195518Z
UID:10012900-1753176600-1753187400@fownhopeparishcouncil.gov.uk
SUMMARY:Hall Garden Work Party
DESCRIPTION:We’re creating a beautiful new garden outside the New Memorial Hall — and we need your help!  \nWe meet each Tuesday from 9:30am to 12:30pm.  \nWe’re getting things ready for a major landscaping day on Saturday 21 June\, after which we’ll be planting the wonderful trees\, shrubs and flowers kindly donated by residents. \nIf you’re able-bodied and up for a bit of graft\, bring your spade\, your saw\, and your muscles.  \nHelp us turn this patch into a blooming focal point for the whole village to enjoy. 💪🌸🌳 \nSee you there? \nFor more information contact Bryn Caless\, brynwstj@gmail.com\, 07581 521291.
URL:https://fownhopeparishcouncil.gov.uk/event/hall-garden-work-party/2025-07-22/
LOCATION:Outside New Memorial Hall\, Fownhope\, Herefordshire\, HR1 4PE\, United Kingdom
CATEGORIES:Nature & Environment
ATTACH;FMTTYPE=image/png:https://fownhopeparishcouncil.gov.uk/wp-content/uploads/2025/06/Hall-work-party.png
GEO:52.006743240887;-2.6142019564165
END:VEVENT
BEGIN:VEVENT
DTSTART;TZID=Europe/London:20250715T093000
DTEND;TZID=Europe/London:20250715T123000
DTSTAMP:20260424T092713
CREATED:20250601T193625Z
LAST-MODIFIED:20250601T195518Z
UID:10012899-1752571800-1752582600@fownhopeparishcouncil.gov.uk
SUMMARY:Hall Garden Work Party
DESCRIPTION:We’re creating a beautiful new garden outside the New Memorial Hall — and we need your help!  \nWe meet each Tuesday from 9:30am to 12:30pm.  \nWe’re getting things ready for a major landscaping day on Saturday 21 June\, after which we’ll be planting the wonderful trees\, shrubs and flowers kindly donated by residents. \nIf you’re able-bodied and up for a bit of graft\, bring your spade\, your saw\, and your muscles.  \nHelp us turn this patch into a blooming focal point for the whole village to enjoy. 💪🌸🌳 \nSee you there? \nFor more information contact Bryn Caless\, brynwstj@gmail.com\, 07581 521291.
URL:https://fownhopeparishcouncil.gov.uk/event/hall-garden-work-party/2025-07-15/
LOCATION:Outside New Memorial Hall\, Fownhope\, Herefordshire\, HR1 4PE\, United Kingdom
CATEGORIES:Nature & Environment
ATTACH;FMTTYPE=image/png:https://fownhopeparishcouncil.gov.uk/wp-content/uploads/2025/06/Hall-work-party.png
GEO:52.006743240887;-2.6142019564165
END:VEVENT
BEGIN:VEVENT
DTSTART;TZID=Europe/London:20250708T093000
DTEND;TZID=Europe/London:20250708T123000
DTSTAMP:20260424T092713
CREATED:20250601T193625Z
LAST-MODIFIED:20250601T195518Z
UID:10012898-1751967000-1751977800@fownhopeparishcouncil.gov.uk
SUMMARY:Hall Garden Work Party
DESCRIPTION:We’re creating a beautiful new garden outside the New Memorial Hall — and we need your help!  \nWe meet each Tuesday from 9:30am to 12:30pm.  \nWe’re getting things ready for a major landscaping day on Saturday 21 June\, after which we’ll be planting the wonderful trees\, shrubs and flowers kindly donated by residents. \nIf you’re able-bodied and up for a bit of graft\, bring your spade\, your saw\, and your muscles.  \nHelp us turn this patch into a blooming focal point for the whole village to enjoy. 💪🌸🌳 \nSee you there? \nFor more information contact Bryn Caless\, brynwstj@gmail.com\, 07581 521291.
URL:https://fownhopeparishcouncil.gov.uk/event/hall-garden-work-party/2025-07-08/
LOCATION:Outside New Memorial Hall\, Fownhope\, Herefordshire\, HR1 4PE\, United Kingdom
CATEGORIES:Nature & Environment
ATTACH;FMTTYPE=image/png:https://fownhopeparishcouncil.gov.uk/wp-content/uploads/2025/06/Hall-work-party.png
GEO:52.006743240887;-2.6142019564165
END:VEVENT
BEGIN:VEVENT
DTSTART;TZID=Europe/London:20250701T093000
DTEND;TZID=Europe/London:20250701T123000
DTSTAMP:20260424T092713
CREATED:20250601T193625Z
LAST-MODIFIED:20250601T195518Z
UID:10012897-1751362200-1751373000@fownhopeparishcouncil.gov.uk
SUMMARY:Hall Garden Work Party
DESCRIPTION:We’re creating a beautiful new garden outside the New Memorial Hall — and we need your help!  \nWe meet each Tuesday from 9:30am to 12:30pm.  \nWe’re getting things ready for a major landscaping day on Saturday 21 June\, after which we’ll be planting the wonderful trees\, shrubs and flowers kindly donated by residents. \nIf you’re able-bodied and up for a bit of graft\, bring your spade\, your saw\, and your muscles.  \nHelp us turn this patch into a blooming focal point for the whole village to enjoy. 💪🌸🌳 \nSee you there? \nFor more information contact Bryn Caless\, brynwstj@gmail.com\, 07581 521291.
URL:https://fownhopeparishcouncil.gov.uk/event/hall-garden-work-party/2025-07-01/
LOCATION:Outside New Memorial Hall\, Fownhope\, Herefordshire\, HR1 4PE\, United Kingdom
CATEGORIES:Nature & Environment
ATTACH;FMTTYPE=image/png:https://fownhopeparishcouncil.gov.uk/wp-content/uploads/2025/06/Hall-work-party.png
GEO:52.006743240887;-2.6142019564165
END:VEVENT
BEGIN:VEVENT
DTSTART;TZID=Europe/London:20250624T093000
DTEND;TZID=Europe/London:20250624T123000
DTSTAMP:20260424T092713
CREATED:20250601T193625Z
LAST-MODIFIED:20250601T195518Z
UID:10012896-1750757400-1750768200@fownhopeparishcouncil.gov.uk
SUMMARY:Hall Garden Work Party
DESCRIPTION:We’re creating a beautiful new garden outside the New Memorial Hall — and we need your help!  \nWe meet each Tuesday from 9:30am to 12:30pm.  \nWe’re getting things ready for a major landscaping day on Saturday 21 June\, after which we’ll be planting the wonderful trees\, shrubs and flowers kindly donated by residents. \nIf you’re able-bodied and up for a bit of graft\, bring your spade\, your saw\, and your muscles.  \nHelp us turn this patch into a blooming focal point for the whole village to enjoy. 💪🌸🌳 \nSee you there? \nFor more information contact Bryn Caless\, brynwstj@gmail.com\, 07581 521291.
URL:https://fownhopeparishcouncil.gov.uk/event/hall-garden-work-party/2025-06-24/
LOCATION:Outside New Memorial Hall\, Fownhope\, Herefordshire\, HR1 4PE\, United Kingdom
CATEGORIES:Nature & Environment
ATTACH;FMTTYPE=image/png:https://fownhopeparishcouncil.gov.uk/wp-content/uploads/2025/06/Hall-work-party.png
GEO:52.006743240887;-2.6142019564165
END:VEVENT
BEGIN:VEVENT
DTSTART;TZID=Europe/London:20250621T090000
DTEND;TZID=Europe/London:20250621T140000
DTSTAMP:20260424T092713
CREATED:20250601T194826Z
LAST-MODIFIED:20250602T101742Z
UID:10012954-1750496400-1750514400@fownhopeparishcouncil.gov.uk
SUMMARY:Hall Garden Work Party
DESCRIPTION:We’re creating a beautiful new garden outside the New Memorial Hall — and we need your help!  \nThis is our big landscaping day. \nWe’re stripping the grass off with a mechanical turf cutter\, putting down weed-suppressing membrane\, shoring up the edges with tanalised timber and filling the resulting space with bark mulch.  It will be quite a job to do\, but this has to precede the planting of all the lovely gifts of plants\, trees and shrubs that many of you have donated (and which are currently sitting on my driveway and in flower beds or pots\, against the day!) \nI do hope that if you’re able-bodied and can do a bit of fetching an carrying you will come along and help. Feel free to come along for just part of the session. \nHelp us turn this patch into a blooming focal point for the whole village to enjoy. 💪🌸🌳 \nSee you there? I’ll be the bloke with the worried frown jockeying with a turf cutter… \nFor more information contact Bryn Caless\, brynwstj@gmail.com\, 07581 521291.
URL:https://fownhopeparishcouncil.gov.uk/event/hall-garden-work-party-2/
LOCATION:Outside New Memorial Hall\, Fownhope\, Herefordshire\, HR1 4PE\, United Kingdom
CATEGORIES:Nature & Environment
ATTACH;FMTTYPE=image/png:https://fownhopeparishcouncil.gov.uk/wp-content/uploads/2025/06/Hall-work-party.png
GEO:52.006743240887;-2.6142019564165
END:VEVENT
BEGIN:VEVENT
DTSTART;TZID=Europe/London:20250617T093000
DTEND;TZID=Europe/London:20250617T123000
DTSTAMP:20260424T092713
CREATED:20250601T193625Z
LAST-MODIFIED:20250601T195518Z
UID:10012895-1750152600-1750163400@fownhopeparishcouncil.gov.uk
SUMMARY:Hall Garden Work Party
DESCRIPTION:We’re creating a beautiful new garden outside the New Memorial Hall — and we need your help!  \nWe meet each Tuesday from 9:30am to 12:30pm.  \nWe’re getting things ready for a major landscaping day on Saturday 21 June\, after which we’ll be planting the wonderful trees\, shrubs and flowers kindly donated by residents. \nIf you’re able-bodied and up for a bit of graft\, bring your spade\, your saw\, and your muscles.  \nHelp us turn this patch into a blooming focal point for the whole village to enjoy. 💪🌸🌳 \nSee you there? \nFor more information contact Bryn Caless\, brynwstj@gmail.com\, 07581 521291.
URL:https://fownhopeparishcouncil.gov.uk/event/hall-garden-work-party/2025-06-17/
LOCATION:Outside New Memorial Hall\, Fownhope\, Herefordshire\, HR1 4PE\, United Kingdom
CATEGORIES:Nature & Environment
ATTACH;FMTTYPE=image/png:https://fownhopeparishcouncil.gov.uk/wp-content/uploads/2025/06/Hall-work-party.png
GEO:52.006743240887;-2.6142019564165
END:VEVENT
BEGIN:VEVENT
DTSTART;TZID=Europe/London:20250610T093000
DTEND;TZID=Europe/London:20250610T123000
DTSTAMP:20260424T092713
CREATED:20250601T193625Z
LAST-MODIFIED:20250601T195518Z
UID:10012894-1749547800-1749558600@fownhopeparishcouncil.gov.uk
SUMMARY:Hall Garden Work Party
DESCRIPTION:We’re creating a beautiful new garden outside the New Memorial Hall — and we need your help!  \nWe meet each Tuesday from 9:30am to 12:30pm.  \nWe’re getting things ready for a major landscaping day on Saturday 21 June\, after which we’ll be planting the wonderful trees\, shrubs and flowers kindly donated by residents. \nIf you’re able-bodied and up for a bit of graft\, bring your spade\, your saw\, and your muscles.  \nHelp us turn this patch into a blooming focal point for the whole village to enjoy. 💪🌸🌳 \nSee you there? \nFor more information contact Bryn Caless\, brynwstj@gmail.com\, 07581 521291.
URL:https://fownhopeparishcouncil.gov.uk/event/hall-garden-work-party/2025-06-10/
LOCATION:Outside New Memorial Hall\, Fownhope\, Herefordshire\, HR1 4PE\, United Kingdom
CATEGORIES:Nature & Environment
ATTACH;FMTTYPE=image/png:https://fownhopeparishcouncil.gov.uk/wp-content/uploads/2025/06/Hall-work-party.png
GEO:52.006743240887;-2.6142019564165
END:VEVENT
BEGIN:VEVENT
DTSTART;TZID=Europe/London:20250603T100000
DTEND;TZID=Europe/London:20250603T120000
DTSTAMP:20260424T092713
CREATED:20250530T155430Z
LAST-MODIFIED:20250601T144544Z
UID:10012892-1748944800-1748952000@fownhopeparishcouncil.gov.uk
SUMMARY:Wheelbarrows
DESCRIPTION:Volunteering. Tan Brook clearing at Ferry Lane. Meet at the wooden footpath bridge downstream of Ferry Cottage.
URL:https://fownhopeparishcouncil.gov.uk/event/wheelbarrows-3/
LOCATION:Herefordshire
CATEGORIES:Volunteering
ATTACH;FMTTYPE=image/jpeg:https://fownhopeparishcouncil.gov.uk/wp-content/uploads/2025/05/IMG_0194-rotated.jpg
ORGANIZER;CN="Fownhope Wheelbarrows":MAILTO:fhemming@hotmail.co.uk
END:VEVENT
BEGIN:VEVENT
DTSTART;TZID=Europe/London:20250603T093000
DTEND;TZID=Europe/London:20250603T123000
DTSTAMP:20260424T092713
CREATED:20250601T193625Z
LAST-MODIFIED:20250601T195518Z
UID:10012893-1748943000-1748953800@fownhopeparishcouncil.gov.uk
SUMMARY:Hall Garden Work Party
DESCRIPTION:We’re creating a beautiful new garden outside the New Memorial Hall — and we need your help!  \nWe meet each Tuesday from 9:30am to 12:30pm.  \nWe’re getting things ready for a major landscaping day on Saturday 21 June\, after which we’ll be planting the wonderful trees\, shrubs and flowers kindly donated by residents. \nIf you’re able-bodied and up for a bit of graft\, bring your spade\, your saw\, and your muscles.  \nHelp us turn this patch into a blooming focal point for the whole village to enjoy. 💪🌸🌳 \nSee you there? \nFor more information contact Bryn Caless\, brynwstj@gmail.com\, 07581 521291.
URL:https://fownhopeparishcouncil.gov.uk/event/hall-garden-work-party/2025-06-03/
LOCATION:Outside New Memorial Hall\, Fownhope\, Herefordshire\, HR1 4PE\, United Kingdom
CATEGORIES:Nature & Environment
ATTACH;FMTTYPE=image/png:https://fownhopeparishcouncil.gov.uk/wp-content/uploads/2025/06/Hall-work-party.png
GEO:52.006743240887;-2.6142019564165
END:VEVENT
BEGIN:VEVENT
DTSTART;TZID=Europe/London:20250601T100000
DTEND;TZID=Europe/London:20250601T120000
DTSTAMP:20260424T092713
CREATED:20250515T080023Z
LAST-MODIFIED:20250528T144613Z
UID:10012878-1748772000-1748779200@fownhopeparishcouncil.gov.uk
SUMMARY:Wheelbarrows
DESCRIPTION:Sun 1st June 10.00 – 12.00\nMeet at the  wooden footbridge \, downstream of Ferry Cottage\, Ferry Lane\nRemoval of debris and gravel from the brook bed.\nWheelbarrows\, shovels\, mattocks\, strong rakes or just bring yourself with good boots or wellies. Meet like minded villagers working in the community.\nNew Volunteers welcome.\nSun Cream\, Mosi spray and water recommended !
URL:https://fownhopeparishcouncil.gov.uk/event/wheelbarrows-2/
LOCATION:Village wide\, Fownhope\, Herefordshire\, HR1\, United Kingdom
CATEGORIES:Volunteering
ATTACH;FMTTYPE=image/jpeg:https://fownhopeparishcouncil.gov.uk/wp-content/uploads/2025/05/IMG_0197-rotated.jpg
ORGANIZER;CN="Fownhope Wheelbarrows":MAILTO:fhemming@hotmail.co.uk
GEO:52.006532;-2.6118019
END:VEVENT
BEGIN:VEVENT
DTSTART;TZID=Europe/London:20250517T100000
DTEND;TZID=Europe/London:20250517T120000
DTSTAMP:20260424T092713
CREATED:20250515T075954Z
LAST-MODIFIED:20250528T144622Z
UID:10012877-1747476000-1747483200@fownhopeparishcouncil.gov.uk
SUMMARY:Wheelbarrows
DESCRIPTION:Sat 17th May 10.00 – 12.00 \nMeet at the steel foot bridge\, Woolhope Road junction with the B4224.\nRemoval of debris and gravel from the brook bed.\nWheelbarrows\, shovels\, mattocks\, strong rakes or just bring yourself with good boots or wellies. Meet like minded villagers working in the community.\nNew volunteers welcome\nSun Cream\, Mosi spray and water recommended !
URL:https://fownhopeparishcouncil.gov.uk/event/wheelbarrows/
LOCATION:Herefordshire
CATEGORIES:Volunteering
ATTACH;FMTTYPE=image/jpeg:https://fownhopeparishcouncil.gov.uk/wp-content/uploads/2025/05/IMG_0195-rotated.jpg
ORGANIZER;CN="Fownhope Wheelbarrows":MAILTO:fhemming@hotmail.co.uk
END:VEVENT
END:VCALENDAR