BEGIN:VCALENDAR
VERSION:2.0
PRODID:-//Fownhope Village - ECPv6.15.20//NONSGML v1.0//EN
CALSCALE:GREGORIAN
METHOD:PUBLISH
X-WR-CALNAME:Fownhope Village
X-ORIGINAL-URL:https://fownhopeparishcouncil.gov.uk
X-WR-CALDESC:Events for Fownhope Village
REFRESH-INTERVAL;VALUE=DURATION:PT1H
X-Robots-Tag:noindex
X-PUBLISHED-TTL:PT1H
BEGIN:VTIMEZONE
TZID:Europe/London
BEGIN:DAYLIGHT
TZOFFSETFROM:+0000
TZOFFSETTO:+0100
TZNAME:BST
DTSTART:20240331T010000
END:DAYLIGHT
BEGIN:STANDARD
TZOFFSETFROM:+0100
TZOFFSETTO:+0000
TZNAME:GMT
DTSTART:20241027T010000
END:STANDARD
BEGIN:DAYLIGHT
TZOFFSETFROM:+0000
TZOFFSETTO:+0100
TZNAME:BST
DTSTART:20250330T010000
END:DAYLIGHT
BEGIN:STANDARD
TZOFFSETFROM:+0100
TZOFFSETTO:+0000
TZNAME:GMT
DTSTART:20251026T010000
END:STANDARD
BEGIN:DAYLIGHT
TZOFFSETFROM:+0000
TZOFFSETTO:+0100
TZNAME:BST
DTSTART:20260329T010000
END:DAYLIGHT
BEGIN:STANDARD
TZOFFSETFROM:+0100
TZOFFSETTO:+0000
TZNAME:GMT
DTSTART:20261025T010000
END:STANDARD
END:VTIMEZONE
BEGIN:VEVENT
DTSTART;TZID=Europe/London:20251213T190000
DTEND;TZID=Europe/London:20251213T210000
DTSTAMP:20260424T143711
CREATED:20251113T155140Z
LAST-MODIFIED:20251113T160008Z
UID:10013884-1765652400-1765659600@fownhopeparishcouncil.gov.uk
SUMMARY:Fownhope Fringe – Seasonal Cider Tasting Evening
DESCRIPTION:Seasonal Cider Tasting Evening (7pm – 9pm)🍏 🎄🦌 \nJoin The Ciderologist\, Gabe Cook\, for a unique and exclusive tutored cider tasting session. Born and bred in Dymock and now Fownhope resident\, Gabe is the world’s foremost cider expert. He has worked in the industry for 20 years\, firstly making cider at Broome Farm\, Peterstow and Westons before moving into a Corporate Communications role for Bulmers (Heineken). A stint making cider and wine in New Zealand followed before a return to the UK to establish The Ciderologist. \nAs well as undertaking fun and informative tasting sessions\, Gabe has written books (one of which will be available to purchase on the night)\, is a global cider judge\, cider sommelier\, educator and resident cider expert on Channel 4’s Sunday Brunch. \nThe session will involve tasting five different ciders\, some from near and some from far that showcases cider’s great quality and diversity. \nWassail! \n£20 Please contact Sue Pope to book a place. \nAdvance booking is essential.  \nWe are always looking for new suggestions for further workshops/talks – requests for different subjects and fresh ideas are always welcome. Please contact us if there’s anything you would like to learn about\, try or simply enjoy.
URL:https://fownhopeparishcouncil.gov.uk/event/fownhope-fringe-seasonal-cider-tasting-evening-2/
LOCATION:Fownhope Pavilion\, Fownhope\, Herefordshire\, HR1 4PJ\, United Kingdom
CATEGORIES:Social,Talks, Demos and Exhibitions
ATTACH;FMTTYPE=image/png:https://fownhopeparishcouncil.gov.uk/wp-content/uploads/2025/09/Gabe-Cook.png
ORGANIZER;CN="Fownhope Fringe":MAILTO:info@fownhopefringe.org.uk
GEO:52.0033839;-2.6147735
END:VEVENT
END:VCALENDAR